Workbook

Sheet ⓪はじめに

Sheet ①ここに入力してください
A13: 本社 | B13: 項目 | C13: 入力欄 | D13: 記載例
B14: 建設業許可番号 | D14: 東京都知事許可第99999号
B15: 住所 | D15: 東京都千代田区霞が関2-1-3
B16: 商号又は名称 | D16: （株）東京建設
B17: 代表者名 | D17: 東京 太郎
A20: 栃木県 | B20: 項目 | C20: 入力欄 | D20: 記載例
B21: 受任営業所（フリガナ） | D21: トチギシテン
B22: 受任営業所 | D22: 栃木支店
B23: 受任者役職名 | D23: 支店長
B24: 受任者氏名（フリガナ） | D24: トチギ タロウ
B25: 受任者氏名 | D25: 栃木 太郎
B26: 郵便番号 | D26: 320-8501
B27: 営業所所在地 | D27: 栃木県宇都宮市塙田1-1-20
B28: 営業所等電話番号 | D28: 028-623-2390
A30: 宇都宮市 | B30: 項目 | C30: 入力欄 | D30: 記載例
B31: 受任営業所（フリガナ） | D31: トチギシテン
B32: 受任営業所 | D32: 栃木支店
B33: 受任者役職名 | D33: 支店長
B34: 受任者氏名（フリガナ） | D34: トチギ タロウ
B35: 受任者氏名 | D35: 栃木 太郎
B36: 郵便番号 | D36: 320-8501
B37: 営業所所在地 | D37: 栃木県宇都宮市塙田1-1-20
B38: 営業所等電話番号 | D38: 028-623-2390
A40: 足利市 | B40: 項目 | C40: 入力欄 | D40: 記載例
B41: 受任営業所（フリガナ） | D41: トチギシテン
B42: 受任営業所 | D42: 栃木支店
B43: 受任者役職名 | D43: 支店長
B44: 受任者氏名（フリガナ） | D44: トチギ タロウ
B45: 受任者氏名 | D45: 栃木 太郎
B46: 郵便番号 | D46: 320-8501
B47: 営業所所在地 | D47: 栃木県宇都宮市塙田1-1-20
B48: 営業所等電話番号 | D48: 028-623-2390
A51: 栃木市 | B51: 項目 | C51: 入力欄 | D51: 記載例
B52: 受任営業所（フリガナ） | D52: トチギシテン
B53: 受任営業所 | D53: 栃木支店
B54: 受任者役職名 | D54: 支店長
B55: 受任者氏名（フリガナ） | D55: トチギ タロウ
B56: 受任者氏名 | D56: 栃木 太郎
B57: 郵便番号 | D57: 320-8501
B58: 営業所所在地 | D58: 栃木県宇都宮市塙田1-1-20
B59: 営業所等電話番号 | D59: 028-623-2390
B60: 営業所等FAX番号 | D60: 028-623-2392
C61: ※県と異なる受任者は設定できません（準市内を除く）
A63: 佐野市 | B63: 項目 | C63: 入力欄 | D63: 記載例
B64: 受任営業所（フリガナ） | D64: トチギシテン
B65: 受任営業所 | D65: 栃木支店
B66: 受任者役職名 | D66: 支店長
B67: 受任者氏名（フリガナ） | D67: トチギ タロウ
B68: 受任者氏名 | D68: 栃木 太郎
B69: 郵便番号 | D69: 320-8501
B70: 営業所所在地 | D70: 栃木県宇都宮市塙田1-1-20
B71: 営業所等電話番号 | D71: 028-623-2390
A74: 鹿沼市 | B74: 項目 | C74: 入力欄 | D74: 記載例
B75: 受任営業所（フリガナ） | D75: トチギシテン
B76: 受任営業所 | D76: 栃木支店
B77: 受任者役職名 | D77: 支店長
B78: 受任者氏名（フリガナ） | D78: トチギ タロウ
B79: 受任者氏名 | D79: 栃木 太郎
B80: 郵便番号 | D80: 320-8501
B81: 営業所所在地 | D81: 栃木県宇都宮市塙田1-1-20
B82: 営業所等電話番号 | D82: 028-623-2390
A85: 日光市 | B85: 項目 | C85: 入力欄 | D85: 記載例
B86: 受任営業所（フリガナ） | D86: トチギシテン
B87: 受任営業所 | D87: 栃木支店
B88: 受任者役職名 | D88: 支店長
B89: 受任者氏名（フリガナ） | D89: トチギ タロウ
B90: 受任者氏名 | D90: 栃木 太郎
B91: 郵便番号 | D91: 320-8501
B92: 営業所所在地 | D92: 栃木県宇都宮市塙田1-1-20
B93: 営業所等電話番号 | D93: 028-623-2390
A96: 小山市 | B96: 項目 | C96: 入力欄 | D96: 記載例
B97: 受任営業所（フリガナ） | D97: トチギシテン
B98: 受任営業所 | D98: 栃木支店
B99: 受任者役職名 | D99: 支店長
B100: 受任者氏名（フリガナ） | D100: トチギ タロウ
B101: 受任者氏名 | D101: 栃木 太郎
B102: 郵便番号 | D102: 320-8501
B103: 営業所所在地 | D103: 栃木県宇都宮市塙田1-1-20
B104: 営業所等電話番号 | D104: 028-623-2390
A107: 真岡市 | B107: 項目 | C107: 入力欄 | D107: 記載例
B108: 受任営業所（フリガナ） | D108: トチギシテン
B109: 受任営業所 | D109: 栃木支店
B110: 受任者役職名 | D110: 支店長
B111: 受任者氏名（フリガナ） | D111: トチギ タロウ
B112: 受任者氏名 | D112: 栃木 太郎
B113: 郵便番号 | D113: 320-8501
B114: 営業所所在地 | D114: 栃木県宇都宮市塙田1-1-20
B115: 営業所等電話番号 | D115: 028-623-2390
C116: ※県と異なる受任者は設定できません
A118: 大田原市 | B118: 項目 | C118: 入力欄 | D118: 記載例
B119: 受任営業所（フリガナ） | D119: トチギシテン
B120: 受任営業所 | D120: 栃木支店
B121: 受任者役職名 | D121: 支店長
B122: 受任者氏名（フリガナ） | D122: トチギ タロウ
B123: 受任者氏名 | D123: 栃木 太郎
B124: 郵便番号 | D124: 320-8501
B125: 営業所所在地 | D125: 栃木県宇都宮市塙田1-1-20
B126: 営業所等電話番号 | D126: 028-623-2390
A129: 矢板市 | B129: 項目 | C129: 入力欄 | D129: 記載例
B130: 受任営業所（フリガナ） | D130: トチギシテン
...

Sheet ②申請する市町のものを印刷し、送付してください→

Sheet 宇都宮市
S2: =TODAY() -> 46275
A3: 委 任 状 ( 市 町 提 出 用 ）
B5: 宇 都 宮 市 長 様
Q7: 建設業許可番号 | S7: =①ここに入力してください!C14 -> 0
Q8: 住所 | S8: =①ここに入力してください!C15 -> 0
Q9: 商号 | S9: =①ここに入力してください!C16 -> 0
Q10: 代表者名 | S10: =①ここに入力してください!C17 -> 0
A12: 私は、次の者を代理人と定め、当該資格審査申請にかかる入札参加資格の有効期間内において下記の権限を委任します。
A14: 記
B15: 委任事項
B16: ・入札及び見積に関すること。
B17: ・契約の締結、代金の請求及び受領に関すること。 | X17: =IF(①ここに入力してください!C252=①ここに入力してください!C22,"","○")
B18: ・復代理人の選任に関すること。
B19: ・請負代金の請求及び受領に関すること。
B20: ・その他付帯事項一切。
B21: ・上記各項に対して、復代理人の選任及び解任。
A24: 受任者に関すること | B24: フリガナ | F24: =①ここに入力してください!C31 -> 0
B25: 受任営業所 | F25: =①ここに入力してください!C32 -> 0
B26: 受任者役職名 | F26: =①ここに入力してください!C33 -> 0
B27: フリガナ | F27: =①ここに入力してください!C34 -> 0
B28: 受任者氏名 | F28: =①ここに入力してください!C35 -> 0
B29: 郵便番号 | F29: 〒 | G29: =①ここに入力してください!C36 -> 0
B30: 営業所等所在地 | F30: =①ここに入力してください!C37 -> 0
B31: 営業所等電話番号 | F31: =①ここに入力してください!C38 -> 0

Sheet 足利市
S2: =TODAY() -> 46275
A3: 委 任 状 ( 市 町 提 出 用 ）
B5: 足 利 市 長 様
Q7: 建設業許可番号 | S7: =①ここに入力してください!C14 -> 0
Q8: 住所 | S8: =①ここに入力してください!C15 -> 0
Q9: 商号 | S9: =①ここに入力してください!C16 -> 0
Q10: 代表者名 | S10: =①ここに入力してください!C17 -> 0
A12: 私は、次の者を代理人と定め、当該資格審査申請にかかる入札参加資格の有効期間内において下記の権限を委任します。
A14: 記
B15: 委任事項
B16: ・入札及び見積に関すること。 | X16: 県と異なる受任者
B17: ・契約の締結、代金の請求及び受領に関すること。 | X17: =IF(①ここに入力してください!C42=①ここに入力してください!C22,"","○")
B18: ・復代理人の選任に関すること。
B19: ・請負代金の請求及び受領に関すること。
B20: ・その他付帯事項一切。
B21: ・上記各項に対して、復代理人の選任及び解任。
A24: 受任者に関すること | B24: フリガナ | F24: =①ここに入力してください!C41 -> 0
B25: 受任営業所 | F25: =①ここに入力してください!C42 -> 0
B26: 受任者役職名 | F26: =①ここに入力してください!C43 -> 0
B27: フリガナ | F27: =①ここに入力してください!C44 -> 0
B28: 受任者氏名 | F28: =①ここに入力してください!C45 -> 0
B29: 郵便番号 | F29: 〒 | G29: =①ここに入力してください!C46 -> 0
B30: 営業所等所在地 | F30: =①ここに入力してください!C47 -> 0
B31: 営業所等電話番号 | F31: =①ここに入力してください!C48 -> 0

Sheet 栃木市
S2: =TODAY() -> 46275
A3: 委 任 状 ( 市 町 提 出 用 ）
B5: 栃 木 市 長 様
Q7: 建設業許可番号 | S7: =①ここに入力してください!C14 -> 0
Q8: 住所 | S8: =①ここに入力してください!C15 -> 0
Q9: 商号 | S9: =①ここに入力してください!C16 -> 0
Q10: 代表者名 | S10: =①ここに入力してください!C17 -> 0
A12: 私は、次の者を代理人と定め、当該資格審査申請にかかる入札参加資格の有効期間内において下記の権限を委任します。
A14: 記
B15: 委任事項
B16: ・入札及び見積に関すること。
B17: ・契約の締結、代金の請求及び受領に関すること。
B18: ・復代理人の選任に関すること。
B19: ・請負代金の請求及び受領に関すること。
B20: ・その他付帯事項一切。
B21: ・上記各項に対して、復代理人の選任及び解任。
A24: 受任者に関すること | B24: フリガナ | F24: =①ここに入力してください!C52 -> 0
B25: 受任営業所 | F25: =①ここに入力してください!C53 -> 0
B26: 受任者役職名 | F26: =①ここに入力してください!C54 -> 0
B27: フリガナ | F27: =①ここに入力してください!C55 -> 0
B28: 受任者氏名 | F28: =①ここに入力してください!C56 -> 0
B29: 郵便番号 | F29: 〒 | G29: =①ここに入力してください!C57 -> 0
B30: 営業所等所在地 | F30: =①ここに入力してください!C58 -> 0
B31: 営業所等電話番号 | F31: =①ここに入力してください!C59 -> 0
B32: 営業所等FAX番号 | F32: =①ここに入力してください!C60 -> 0

Sheet 佐野市
S2: =TODAY() -> 46275
A3: 委 任 状 ( 市 町 提 出 用 ）
B5: 佐 野 市 長 様
Q7: 建設業許可番号 | S7: =①ここに入力してください!C14 -> 0
Q8: 住所 | S8: =①ここに入力してください!C15 -> 0
Q9: 商号 | S9: =①ここに入力してください!C16 -> 0
Q10: 代表者名 | S10: =①ここに入力してください!C17 -> 0
A12: 私は、次の者を代理人と定め、当該資格審査申請にかかる入札参加資格の有効期間内において下記の権限を委任します。
A14: 記
B15: 委任事項
B16: ・入札及び見積に関すること。 | X16: 県と異なる受任者
B17: ・契約の締結、代金の請求及び受領に関すること。 | X17: =IF(①ここに入力してください!C65=①ここに入力してください!C22,"","○")
B18: ・復代理人の選任に関すること。
B19: ・請負代金の請求及び受領に関すること。
B20: ・その他付帯事項一切。
B21: ・上記各項に対して、復代理人の選任及び解任。
A24: 受任者に関すること | B24: フリガナ | F24: =①ここに入力してください!C64 -> 0
B25: 受任営業所 | F25: =①ここに入力してください!C65 -> 0
B26: 受任者役職名 | F26: =①ここに入力してください!C66 -> 0
B27: フリガナ | F27: =①ここに入力してください!C67 -> 0
B28: 受任者氏名 | F28: =①ここに入力してください!C68 -> 0
B29: 郵便番号 | F29: 〒 | G29: =①ここに入力してください!C69 -> 0
B30: 営業所等所在地 | F30: =①ここに入力してください!C70 -> 0
B31: 営業所等電話番号 | F31: =①ここに入力してください!C71 -> 0

Sheet 日光市
S2: =TODAY() -> 46275
A3: 委 任 状 ( 市 町 提 出 用 ）
B5: 日 光 市 長 様
Q7: 建設業許可番号 | S7: =①ここに入力してください!C14 -> 0
Q8: 住所 | S8: =①ここに入力してください!C15 -> 0
Q9: 商号 | S9: =①ここに入力してください!C16 -> 0
Q10: 代表者名 | S10: =①ここに入力してください!C17 -> 0
A12: 私は、次の者を代理人と定め、当該資格審査申請にかかる入札参加資格の有効期間内において下記の権限を委任します。
A14: 記
B15: 委任事項
B16: ・入札及び見積に関すること。 | X16: 県と異なる受任者
B17: ・契約の締結、代金の請求及び受領に関すること。 | X17: =IF(①ここに入力してください!C87=①ここに入力してください!C22,"","○")
B18: ・復代理人の選任に関すること。
B19: ・請負代金の請求及び受領に関すること。
B20: ・その他付帯事項一切。
B21: ・上記各項に対して、復代理人の選任及び解任。
A24: 受任者に関すること | B24: フリガナ | F24: =①ここに入力してください!C86 -> 0
B25: 受任営業所 | F25: =①ここに入力してください!C87 -> 0
B26: 受任者役職名 | F26: =①ここに入力してください!C88 -> 0
B27: フリガナ | F27: =①ここに入力してください!C89 -> 0
B28: 受任者氏名 | F28: =①ここに入力してください!C90 -> 0
B29: 郵便番号 | F29: 〒 | G29: =①ここに入力してください!C91 -> 0
B30: 営業所等所在地 | F30: =①ここに入力してください!C92 -> 0
B31: 営業所等電話番号 | F31: =①ここに入力してください!C93 -> 0

Sheet 小山市
S2: =TODAY() -> 46275
A3: 委 任 状 ( 市 町 提 出 用 ）
B5: 小 山 市 長 様
Q7: 建設業許可番号 | S7: =①ここに入力してください!C14 -> 0
Q8: 住所 | S8: =①ここに入力してください!C15 -> 0
Q9: 商号 | S9: =①ここに入力してください!C16 -> 0
Q10: 代表者名 | S10: =①ここに入力してください!C17 -> 0
A12: 私は、次の者を代理人と定め、当該資格審査申請にかかる入札参加資格の有効期間内において下記の権限を委任します。
A14: 記
B15: 委任事項
B16: ・入札及び見積に関すること。 | X16: 県と異なる受任者
B17: ・契約の締結、代金の請求及び受領に関すること。 | X17: =IF(①ここに入力してください!C98=①ここに入力してください!C22,"","○")
B18: ・復代理人の選任に関すること。
B19: ・請負代金の請求及び受領に関すること。
B20: ・その他付帯事項一切。
B21: ・上記各項に対して、復代理人の選任及び解任。
A24: 受任者に関すること | B24: フリガナ | F24: =①ここに入力してください!C97 -> 0
B25: 受任営業所 | F25: =①ここに入力してください!C98 -> 0
B26: 受任者役職名 | F26: =①ここに入力してください!C99 -> 0
B27: フリガナ | F27: =①ここに入力してください!C100 -> 0
B28: 受任者氏名 | F28: =①ここに入力してください!C101 -> 0
B29: 郵便番号 | F29: 〒 | G29: =①ここに入力してください!C102 -> 0
B30: 営業所等所在地 | F30: =①ここに入力してください!C103 -> 0
B31: 営業所等電話番号 | F31: =①ここに入力してください!C104 -> 0

Sheet 真岡市
S2: =TODAY() -> 46275
A3: 委 任 状 ( 市 町 提 出 用 ）
B5: 真 岡 市 長 様
Q7: 建設業許可番号 | S7: =①ここに入力してください!C14 -> 0
Q8: 住所 | S8: =①ここに入力してください!C15 -> 0
Q9: 商号 | S9: =①ここに入力してください!C16 -> 0
Q10: 代表者名 | S10: =①ここに入力してください!C17 -> 0
A12: 私は、次の者を代理人と定め、当該資格審査申請にかかる入札参加資格の有効期間内において下記の権限を委任します。
A14: 記
B15: 委任事項
B16: ・入札及び見積に関すること。
B17: ・契約の締結、代金の請求及び受領に関すること。
B18: ・復代理人の選任に関すること。
B19: ・請負代金の請求及び受領に関すること。
B20: ・その他付帯事項一切。
B21: ・上記各項に対して、復代理人の選任及び解任。
A24: 受任者に関すること | B24: フリガナ | F24: =①ここに入力してください!C108 -> 0
B25: 受任営業所 | F25: =①ここに入力してください!C109 -> 0
B26: 受任者役職名 | F26: =①ここに入力してください!C110 -> 0
B27: フリガナ | F27: =①ここに入力してください!C111 -> 0
B28: 受任者氏名 | F28: =①ここに入力してください!C112 -> 0
B29: 郵便番号 | F29: 〒 | G29: =①ここに入力してください!C113 -> 0
B30: 営業所等所在地 | F30: =①ここに入力してください!C114 -> 0
B31: 営業所等電話番号 | F31: =①ここに入力してください!C115 -> 0

Sheet 大田原市
S2: =TODAY() -> 46275
A3: 委 任 状 ( 市 町 提 出 用 ）
B5: 大 田 原 市 長 様
Q7: 建設業許可番号 | S7: =①ここに入力してください!C14 -> 0
Q8: 住所 | S8: =①ここに入力してください!C15 -> 0
Q9: 商号 | S9: =①ここに入力してください!C16 -> 0
Q10: 代表者名 | S10: =①ここに入力してください!C17 -> 0
A12: 私は、次の者を代理人と定め、当該資格審査申請にかかる入札参加資格の有効期間内において下記の権限を委任します。
A14: 記
B15: 委任事項
B16: ・入札及び見積に関すること。
B17: ・契約の締結、代金の請求及び受領に関すること。 | X17: =IF(①ここに入力してください!C252=①ここに入力してください!C22,"","○")
B18: ・復代理人の選任に関すること。
B19: ・請負代金の請求及び受領に関すること。
B20: ・その他付帯事項一切。
B21: ・上記各項に対して、復代理人の選任及び解任。
A24: 受任者に関すること | B24: フリガナ | F24: =①ここに入力してください!C119 -> 0
B25: 受任営業所 | F25: =①ここに入力してください!C120 -> 0
B26: 受任者役職名 | F26: =①ここに入力してください!C121 -> 0
B27: フリガナ | F27: =①ここに入力してください!C122 -> 0
B28: 受任者氏名 | F28: =①ここに入力してください!C123 -> 0
B29: 郵便番号 | F29: 〒 | G29: =①ここに入力してください!C124 -> 0
B30: 営業所等所在地 | F30: =①ここに入力してください!C125 -> 0
B31: 営業所等電話番号 | F31: =①ここに入力してください!C126 -> 0

Sheet 矢板市
S2: =TODAY() -> 46275
A3: 委 任 状 ( 市 町 提 出 用 ）
B5: 矢 板 市 長 様
Q7: 建設業許可番号 | S7: =①ここに入力してください!C14 -> 0
Q8: 住所 | S8: =①ここに入力してください!C15 -> 0
Q9: 商号 | S9: =①ここに入力してください!C16 -> 0
Q10: 代表者名 | S10: =①ここに入力してください!C17 -> 0
A12: 私は、次の者を代理人と定め、当該資格審査申請にかかる入札参加資格の有効期間内において下記の権限を委任します。
A14: 記
B15: 委任事項
B16: ・入札及び見積に関すること。 | X16: 県と異なる受任者
B17: ・契約の締結、代金の請求及び受領に関すること。 | X17: =IF(①ここに入力してください!C131=①ここに入力してください!C22,"","○")
B18: ・復代理人の選任に関すること。
B19: ・請負代金の請求及び受領に関すること。
B20: ・その他付帯事項一切。
B21: ・上記各項に対して、復代理人の選任及び解任。
A24: 受任者に関すること | B24: フリガナ | F24: =①ここに入力してください!C130 -> 0
B25: 受任営業所 | F25: =①ここに入力してください!C131 -> 0
B26: 受任者役職名 | F26: =①ここに入力してください!C132 -> 0
B27: フリガナ | F27: =①ここに入力してください!C133 -> 0
B28: 受任者氏名 | F28: =①ここに入力してください!C134 -> 0
B29: 郵便番号 | F29: 〒 | G29: =①ここに入力してください!C135 -> 0
B30: 営業所等所在地 | F30: =①ここに入力してください!C136 -> 0
B31: 営業所等電話番号 | F31: =①ここに入力してください!C137 -> 0

Sheet さくら市
S2: =TODAY() -> 46275
A3: 委 任 状 ( 市 町 提 出 用 ）
B5: さ く ら 市 長 様
Q7: 建設業許可番号 | S7: =①ここに入力してください!C14 -> 0
Q8: 住所 | S8: =①ここに入力してください!C15 -> 0
Q9: 商号 | S9: =①ここに入力してください!C16 -> 0
Q10: 代表者名 | S10: =①ここに入力してください!C17 -> 0 | AB10: 印
A12: 私は、次の者を代理人と定め、当該資格審査申請にかかる入札参加資格の有効期間内において下記の権限を委任します。
A14: 記
B15: 委任事項
B16: ・入札及び見積に関すること。 | X16: 県と異なる受任者
B17: ・契約の締結、代金の請求及び受領に関すること。 | X17: =IF(①ここに入力してください!C142=①ここに入力してください!C22,"","○")
B18: ・復代理人の選任に関すること。
B19: ・請負代金の請求及び受領に関すること。
B20: ・その他付帯事項一切。
B21: ・上記各項に対して、復代理人の選任及び解任。
A24: 受任者に関すること | B24: フリガナ | F24: =①ここに入力してください!C141 -> 0
B25: 受任営業所 | F25: =①ここに入力してください!C142 -> 0
B26: 受任者役職名 | F26: =①ここに入力してください!C143 -> 0
B27: フリガナ | F27: =①ここに入力してください!C144 -> 0
B28: 受任者氏名 | F28: =①ここに入力してください!C145 -> 0
B29: 郵便番号 | F29: 〒 | G29: =①ここに入力してください!C146 -> 0
B30: 営業所等所在地 | F30: =①ここに入力してください!C147 -> 0
B31: 営業所等電話番号 | F31: =①ここに入力してください!C148 -> 0

Sheet 那須烏山市
S2: =TODAY() -> 46275
A3: 委 任 状 ( 市 町 提 出 用 ）
B5: 那 須 烏 山 市 長 様
Q7: 建設業許可番号 | S7: =①ここに入力してください!C14 -> 0
Q8: 住所 | S8: =①ここに入力してください!C15 -> 0
Q9: 商号 | S9: =①ここに入力してください!C16 -> 0
Q10: 代表者名 | S10: =①ここに入力してください!C17 -> 0
A12: 私は、次の者を代理人と定め、当該資格審査申請にかかる入札参加資格の有効期間内において下記の権限を委任します。
A14: 記
B15: 委任事項
B16: ・入札及び見積に関すること。
B17: ・契約の締結、代金の請求及び受領に関すること。
B18: ・復代理人の選任に関すること。
B19: ・請負代金の請求及び受領に関すること。
B20: ・その他付帯事項一切。
B21: ・上記各項に対して、復代理人の選任及び解任。
A24: 受任者に関すること | B24: フリガナ | F24: =①ここに入力してください!C152 -> 0
B25: 受任営業所 | F25: =①ここに入力してください!C153 -> 0
B26: 受任者役職名 | F26: =①ここに入力してください!C154 -> 0
B27: フリガナ | F27: =①ここに入力してください!C155 -> 0
B28: 受任者氏名 | F28: =①ここに入力してください!C156 -> 0
B29: 郵便番号 | F29: 〒 | G29: =①ここに入力してください!C157 -> 0
B30: 営業所等所在地 | F30: =①ここに入力してください!C158 -> 0
B31: 営業所等電話番号 | F31: =①ここに入力してください!C159 -> 0

Sheet 下野市 
S2: =TODAY() -> 46275
A3: 委 任 状 ( 市 町 提 出 用 ）
B5: 下 野 市 長 様
Q7: 建設業許可番号 | S7: =①ここに入力してください!C14 -> 0
Q8: 住所 | S8: =①ここに入力してください!C15 -> 0
Q9: 商号 | S9: =①ここに入力してください!C16 -> 0
Q10: 代表者名 | S10: =①ここに入力してください!C17 -> 0
A12: 私は、次の者を代理人と定め、当該資格審査申請にかかる入札参加資格の有効期間内において下記の権限を委任します。
A14: 記
B15: 委任事項
B16: ・入札及び見積に関すること。 | X16: 県と異なる受任者
B17: ・契約の締結、代金の請求及び受領に関すること。 | X17: =IF(①ここに入力してください!C164=①ここに入力してください!C22,"","○")
B18: ・復代理人の選任に関すること。
B19: ・請負代金の請求及び受領に関すること。
B20: ・その他付帯事項一切。
B21: ・上記各項に対して、復代理人の選任及び解任。
A24: 受任者に関すること | B24: フリガナ | F24: =①ここに入力してください!C163 -> 0
B25: 受任営業所 | F25: =①ここに入力してください!C164 -> 0
B26: 受任者役職名 | F26: =①ここに入力してください!C165 -> 0
B27: フリガナ | F27: =①ここに入力してください!C166 -> 0
B28: 受任者氏名 | F28: =①ここに入力してください!C167 -> 0
B29: 郵便番号 | F29: 〒 | G29: =①ここに入力してください!C168 -> 0
B30: 営業所等所在地 | F30: =①ここに入力してください!C169 -> 0
B31: 営業所等電話番号 | F31: =①ここに入力してください!C170 -> 0

Sheet 上三川町
S2: =TODAY() -> 46275
A3: 委 任 状 ( 市 町 提 出 用 ）
B5: 上 三 川 町 長 様
Q7: 建設業許可番号 | S7: =①ここに入力してください!C14 -> 0
Q8: 住所 | S8: =①ここに入力してください!C15 -> 0
Q9: 商号 | S9: =①ここに入力してください!C16 -> 0
Q10: 代表者名 | S10: =①ここに入力してください!C17 -> 0
A12: 私は、次の者を代理人と定め、当該資格審査申請にかかる入札参加資格の有効期間内において下記の権限を委任します。
A14: 記
B15: 委任事項
B16: ・入札及び見積に関すること。 | X16: 県と異なる受任者
B17: ・契約の締結、代金の請求及び受領に関すること。 | X17: =IF(①ここに入力してください!C175=①ここに入力してください!C22,"","○")
B18: ・復代理人の選任に関すること。
B19: ・請負代金の請求及び受領に関すること。
B20: ・その他付帯事項一切。
B21: ・上記各項に対して、復代理人の選任及び解任。
A24: 受任者に関すること | B24: フリガナ | F24: =①ここに入力してください!C174 -> 0
B25: 受任営業所 | F25: =①ここに入力してください!C175 -> 0
B26: 受任者役職名 | F26: =①ここに入力してください!C176 -> 0
B27: フリガナ | F27: =①ここに入力してください!C177 -> 0
B28: 受任者氏名 | F28: =①ここに入力してください!C178 -> 0
B29: 郵便番号 | F29: 〒 | G29: =①ここに入力してください!C179 -> 0
B30: 営業所等所在地 | F30: =①ここに入力してください!C180 -> 0
B31: 営業所等電話番号 | F31: =①ここに入力してください!C181 -> 0

Sheet 益子町
S2: =TODAY() -> 46275
A3: 委 任 状 ( 市 町 提 出 用 ）
B5: 益 子 町 長 様
Q7: 建設業許可番号 | S7: =①ここに入力してください!C14 -> 0
Q8: 住所 | S8: =①ここに入力してください!C15 -> 0
Q9: 商号 | S9: =①ここに入力してください!C16 -> 0
Q10: 代表者名 | S10: =①ここに入力してください!C17 -> 0
A12: 私は、次の者を代理人と定め、当該資格審査申請にかかる入札参加資格の有効期間内において下記の権限を委任します。
A14: 記
B15: 委任事項
B16: ・入札及び見積に関すること。 | X16: 県と異なる受任者
B17: ・契約の締結、代金の請求及び受領に関すること。 | X17: =IF(①ここに入力してください!C186=①ここに入力してください!C22,"","○")
B18: ・復代理人の選任に関すること。
B19: ・請負代金の請求及び受領に関すること。
B20: ・その他付帯事項一切。
B21: ・上記各項に対して、復代理人の選任及び解任。
A24: 受任者に関すること | B24: フリガナ | F24: =①ここに入力してください!C185 -> 0
B25: 受任営業所 | F25: =①ここに入力してください!C186 -> 0
B26: 受任者役職名 | F26: =①ここに入力してください!C187 -> 0
B27: フリガナ | F27: =①ここに入力してください!C188 -> 0
B28: 受任者氏名 | F28: =①ここに入力してください!C189 -> 0
B29: 郵便番号 | F29: 〒 | G29: =①ここに入力してください!C190 -> 0
B30: 営業所等所在地 | F30: =①ここに入力してください!C191 -> 0
B31: 営業所等電話番号 | F31: =①ここに入力してください!C192 -> 0

Sheet 茂木町
S2: =TODAY() -> 46275
A3: 委 任 状 ( 市 町 提 出 用 ）
B5: 茂 木 町 長 様
Q7: 建設業許可番号 | S7: =①ここに入力してください!C14 -> 0
Q8: 住所 | S8: =①ここに入力してください!C15 -> 0
Q9: 商号 | S9: =①ここに入力してください!C16 -> 0
Q10: 代表者名 | S10: =①ここに入力してください!C17 -> 0
A12: 私は、次の者を代理人と定め、当該資格審査申請にかかる入札参加資格の有効期間内において下記の権限を委任します。
A14: 記
B15: 委任事項
B16: ・入札及び見積に関すること。 | X16: 県と異なる受任者
B17: ・契約の締結、代金の請求及び受領に関すること。 | X17: =IF(①ここに入力してください!C197=①ここに入力してください!C22,"","○")
B18: ・復代理人の選任に関すること。
B19: ・請負代金の請求及び受領に関すること。
B20: ・その他付帯事項一切。
B21: ・上記各項に対して、復代理人の選任及び解任。
A24: 受任者に関すること | B24: フリガナ | F24: =①ここに入力してください!C196 -> 0
B25: 受任営業所 | F25: =①ここに入力してください!C197 -> 0
B26: 受任者役職名 | F26: =①ここに入力してください!C198 -> 0
B27: フリガナ | F27: =①ここに入力してください!C199 -> 0
B28: 受任者氏名 | F28: =①ここに入力してください!C200 -> 0
B29: 郵便番号 | F29: 〒 | G29: =①ここに入力してください!C201 -> 0
B30: 営業所等所在地 | F30: =①ここに入力してください!C202 -> 0
B31: 営業所等電話番号 | F31: =①ここに入力してください!C203 -> 0

Sheet 市貝町
S2: =TODAY() -> 46275
A3: 委 任 状 ( 市 町 提 出 用 ）
B5: 市 貝 町 長 様
Q7: 建設業許可番号 | S7: =①ここに入力してください!C14 -> 0
Q8: 住所 | S8: =①ここに入力してください!C15 -> 0
Q9: 商号 | S9: =①ここに入力してください!C16 -> 0
Q10: 代表者名 | S10: =①ここに入力してください!C17 -> 0
A12: 私は、次の者を代理人と定め、当該資格審査申請にかかる入札参加資格の有効期間内において下記の権限を委任します。
A14: 記
B15: 委任事項
B16: ・入札及び見積に関すること。 | X16: 県と異なる受任者
B17: ・契約の締結、代金の請求及び受領に関すること。 | X17: =IF(①ここに入力してください!C208=①ここに入力してください!C22,"","○")
B18: ・復代理人の選任に関すること。
B19: ・請負代金の請求及び受領に関すること。
B20: ・その他付帯事項一切。
B21: ・上記各項に対して、復代理人の選任及び解任。
A24: 受任者に関すること | B24: フリガナ | F24: =①ここに入力してください!C207 -> 0
B25: 受任営業所 | F25: =①ここに入力してください!C208 -> 0
B26: 受任者役職名 | F26: =①ここに入力してください!C209 -> 0
B27: フリガナ | F27: =①ここに入力してください!C210 -> 0
B28: 受任者氏名 | F28: =①ここに入力してください!C211 -> 0
B29: 郵便番号 | F29: 〒 | G29: =①ここに入力してください!C212 -> 0
B30: 営業所等所在地 | F30: =①ここに入力してください!C213 -> 0
B31: 営業所等電話番号 | F31: =①ここに入力してください!C214 -> 0

Sheet 芳賀町
S2: =TODAY() -> 46275
A3: 委 任 状 ( 市 町 提 出 用 ）
B5: 芳 賀 町 長 様
Q7: 建設業許可番号 | S7: =①ここに入力してください!C14 -> 0
Q8: 住所 | S8: =①ここに入力してください!C15 -> 0
Q9: 商号 | S9: =①ここに入力してください!C16 -> 0
Q10: 代表者名 | S10: =①ここに入力してください!C17 -> 0
A12: 私は、次の者を代理人と定め、当該資格審査申請にかかる入札参加資格の有効期間内において下記の権限を委任します。
A14: 記
B15: 委任事項
B16: ・入札及び見積に関すること。
B17: ・契約の締結、代金の請求及び受領に関すること。
B18: ・復代理人の選任に関すること。
B19: ・請負代金の請求及び受領に関すること。
B20: ・その他付帯事項一切。
B21: ・上記各項に対して、復代理人の選任及び解任。
A24: 受任者に関すること | B24: フリガナ | F24: =①ここに入力してください!C218 -> 0
B25: 受任営業所 | F25: =①ここに入力してください!C219 -> 0
B26: 受任者役職名 | F26: =①ここに入力してください!C220 -> 0
B27: フリガナ | F27: =①ここに入力してください!C221 -> 0
B28: 受任者氏名 | F28: =①ここに入力してください!C222 -> 0
B29: 郵便番号 | F29: 〒 | G29: =①ここに入力してください!C223 -> 0
B30: 営業所等所在地 | F30: =①ここに入力してください!C224 -> 0
B31: 営業所等電話番号 | F31: =①ここに入力してください!C225 -> 0

Sheet 壬生町
S2: =TODAY() -> 46275
A3: 委 任 状 ( 市 町 提 出 用 ）
B5: 壬 生 町 長 様
Q7: 建設業許可番号 | S7: =①ここに入力してください!C14 -> 0
Q8: 住所 | S8: =①ここに入力してください!C15 -> 0
Q9: 商号 | S9: =①ここに入力してください!C16 -> 0
Q10: 代表者名 | S10: =①ここに入力してください!C17 -> 0
A12: 私は、次の者を代理人と定め、当該資格審査申請にかかる入札参加資格の有効期間内において下記の権限を委任します。
A14: 記
B15: 委任事項
B16: ・入札及び見積に関すること。 | X16: 県と異なる受任者
B17: ・契約の締結、代金の請求及び受領に関すること。 | X17: =IF(①ここに入力してください!C230=①ここに入力してください!C22,"","○")
B18: ・復代理人の選任に関すること。
B19: ・請負代金の請求及び受領に関すること。
B20: ・その他付帯事項一切。
B21: ・上記各項に対して、復代理人の選任及び解任。
A24: 受任者に関すること | B24: フリガナ | F24: =①ここに入力してください!C229 -> 0
B25: 受任営業所 | F25: =①ここに入力してください!C230 -> 0
B26: 受任者役職名 | F26: =①ここに入力してください!C231 -> 0
B27: フリガナ | F27: =①ここに入力してください!C232 -> 0
B28: 受任者氏名 | F28: =①ここに入力してください!C233 -> 0
B29: 郵便番号 | F29: 〒 | G29: =①ここに入力してください!C234 -> 0
B30: 営業所等所在地 | F30: =①ここに入力してください!C235 -> 0
B31: 営業所等電話番号 | F31: =①ここに入力してください!C236 -> 0

Sheet 野木町
S2: =TODAY() -> 46275
A3: 委 任 状 ( 市 町 提 出 用 ）
B5: 野 木 町 長 様
Q7: 建設業許可番号 | S7: =①ここに入力してください!C14 -> 0
Q8: 住所 | S8: =①ここに入力してください!C15 -> 0
Q9: 商号 | S9: =①ここに入力してください!C16 -> 0
Q10: 代表者名 | S10: =①ここに入力してください!C17 -> 0
A12: 私は、次の者を代理人と定め、当該資格審査申請にかかる入札参加資格の有効期間内において下記の権限を委任します。
A14: 記
B15: 委任事項
B16: ・入札及び見積に関すること。 | X16: 県と異なる受任者
B17: ・契約の締結、代金の請求及び受領に関すること。 | X17: =IF(①ここに入力してください!C241=①ここに入力してください!C22,"","○")
B18: ・復代理人の選任に関すること。
B19: ・請負代金の請求及び受領に関すること。
B20: ・その他付帯事項一切。
B21: ・上記各項に対して、復代理人の選任及び解任。
A24: 受任者に関すること | B24: フリガナ | F24: =①ここに入力してください!C240 -> 0
B25: 受任営業所 | F25: =①ここに入力してください!C241 -> 0
B26: 受任者役職名 | F26: =①ここに入力してください!C242 -> 0
B27: フリガナ | F27: =①ここに入力してください!C243 -> 0
B28: 受任者氏名 | F28: =①ここに入力してください!C244 -> 0
B29: 郵便番号 | F29: 〒 | G29: =①ここに入力してください!C245 -> 0
B30: 営業所等所在地 | F30: =①ここに入力してください!C246 -> 0
B31: 営業所等電話番号 | F31: =①ここに入力してください!C247 -> 0

Sheet 塩谷町
S2: =TODAY() -> 46275
A3: 委 任 状 ( 市 町 提 出 用 ）
B5: 塩 谷 町 長 様
Q7: 建設業許可番号 | S7: =①ここに入力してください!C14 -> 0
Q8: 住所 | S8: =①ここに入力してください!C15 -> 0
Q9: 商号 | S9: =①ここに入力してください!C16 -> 0
Q10: 代表者名 | S10: =①ここに入力してください!C17 -> 0
A12: 私は、次の者を代理人と定め、当該資格審査申請にかかる入札参加資格の有効期間内において下記の権限を委任します。
A14: 記
B15: 委任事項
B16: ・入札及び見積に関すること。 | X16: 県と異なる受任者
B17: ・契約の締結、代金の請求及び受領に関すること。 | X17: =IF(①ここに入力してください!C252=①ここに入力してください!C22,"","○")
B18: ・復代理人の選任に関すること。
B19: ・請負代金の請求及び受領に関すること。
B20: ・その他付帯事項一切。
B21: ・上記各項に対して、復代理人の選任及び解任。
A24: 受任者に関すること | B24: フリガナ | F24: =①ここに入力してください!C251 -> 0
B25: 受任営業所 | F25: =①ここに入力してください!C252 -> 0
B26: 受任者役職名 | F26: =①ここに入力してください!C253 -> 0
B27: フリガナ | F27: =①ここに入力してください!C254 -> 0
B28: 受任者氏名 | F28: =①ここに入力してください!C255 -> 0
B29: 郵便番号 | F29: 〒 | G29: =①ここに入力してください!C256 -> 0
B30: 営業所等所在地 | F30: =①ここに入力してください!C257 -> 0
B31: 営業所等電話番号 | F31: =①ここに入力してください!C258 -> 0

Sheet 高根沢町
S2: =TODAY() -> 46275
A3: 委 任 状 ( 市 町 提 出 用 ）
B5: 高 根 沢 町 長 様
Q7: 建設業許可番号 | S7: =①ここに入力してください!C14 -> 0
Q8: 住所 | S8: =①ここに入力してください!C15 -> 0
Q9: 商号 | S9: =①ここに入力してください!C16 -> 0
Q10: 代表者名 | S10: =①ここに入力してください!C17 -> 0
A12: 私は、次の者を代理人と定め、当該資格審査申請にかかる入札参加資格の有効期間内において下記の権限を委任します。
A14: 記
B15: 委任事項
B16: ・入札及び見積に関すること。 | X16: 県と異なる受任者
B17: ・契約の締結、代金の請求及び受領に関すること。 | X17: =IF(①ここに入力してください!C263=①ここに入力してください!C22,"","○")
B18: ・復代理人の選任に関すること。
B19: ・請負代金の請求及び受領に関すること。
B20: ・その他付帯事項一切。
B21: ・上記各項に対して、復代理人の選任及び解任。
A24: 受任者に関すること | B24: フリガナ | F24: =①ここに入力してください!C262 -> 0
B25: 受任営業所 | F25: =①ここに入力してください!C263 -> 0
B26: 受任者役職名 | F26: =①ここに入力してください!C264 -> 0
B27: フリガナ | F27: =①ここに入力してください!C265 -> 0
B28: 受任者氏名 | F28: =①ここに入力してください!C266 -> 0
B29: 郵便番号 | F29: 〒 | G29: =①ここに入力してください!C267 -> 0
B30: 営業所等所在地 | F30: =①ここに入力してください!C268 -> 0
B31: 営業所等電話番号 | F31: =①ここに入力してください!C269 -> 0

Sheet 那珂川町
S2: =TODAY() -> 46275
A3: 委 任 状 ( 市 町 提 出 用 ）
B5: 那 珂 川 町 長 様
Q7: 建設業許可番号 | S7: =①ここに入力してください!C14 -> 0
Q8: 住所 | S8: =①ここに入力してください!C15 -> 0
Q9: 商号 | S9: =①ここに入力してください!C16 -> 0
Q10: 代表者名 | S10: =①ここに入力してください!C17 -> 0
A12: 私は、次の者を代理人と定め、当該資格審査申請にかかる入札参加資格の有効期間内において下記の権限を委任します。
A14: 記
B15: 委任事項
B16: ・入札及び見積に関すること。 | X16: 県と異なる受任者
B17: ・契約の締結、代金の請求及び受領に関すること。 | X17: =IF(①ここに入力してください!C274=①ここに入力してください!C22,"","○")
B18: ・復代理人の選任に関すること。
B19: ・請負代金の請求及び受領に関すること。
B20: ・その他付帯事項一切。
B21: ・上記各項に対して、復代理人の選任及び解任。
A24: 受任者に関すること | B24: フリガナ | F24: =①ここに入力してください!C273 -> 0
B25: 受任営業所 | F25: =①ここに入力してください!C274 -> 0
B26: 受任者役職名 | F26: =①ここに入力してください!C275 -> 0
B27: フリガナ | F27: =①ここに入力してください!C276 -> 0
B28: 受任者氏名 | F28: =①ここに入力してください!C277 -> 0
B29: 郵便番号 | F29: 〒 | G29: =①ここに入力してください!C278 -> 0
B30: 営業所等所在地 | F30: =①ここに入力してください!C279 -> 0
B31: 営業所等電話番号 | F31: =①ここに入力してください!C280 -> 0
